Workbook

Sheet Sheet1
A1: 涟水农商行代销理财产品存续期净值及合作机构查询渠道
A3: 产品名称 | B3: 产品登记编码 | C3: 发行机构 | D3: 属性 | E3: 净值日期 | F3: 份额净值 | G3: 累计份额净值 | H3: 合作机构网址
A4: 信银理财安盈象固收稳健七天持有期98号理财产品 | B4: Z7002625002825 | C4: 信银理财有限责任公司 | D4: 代销理财产品 | E4: 20260918 | F4: =VLOOKUP(A4,Sheet2!B:C,2,0) -> 1.0247 | G4: =VLOOKUP(A4,Sheet2!B:D,3,0) -> 1.0247 | H4: https://www.citic-wealth.com
A5: 信银理财安盈象固收稳利七天持有期63号理财产品 | B5: Z7002624001591 | C5: 信银理财有限责任公司 | D5: 代销理财产品 | E5: 20260918 | F5: =VLOOKUP(A5,Sheet2!B:C,2,0) -> 1.0292 | G5: =VLOOKUP(A5,Sheet2!B:D,3,0) -> 1.0292 | H5: https://www.citic-wealth.com
A6: 信银理财安盈象固收稳健十四天持有期71号理财产品 | B6: Z7002625002543 | C6: 信银理财有限责任公司 | D6: 代销理财产品 | E6: 20260918 | F6: =VLOOKUP(A6,Sheet2!B:C,2,0) -> 1.0231 | G6: =VLOOKUP(A6,Sheet2!B:D,3,0) -> 1.0231 | H6: https://www.citic-wealth.com
A7: 信银理财安盈象固收稳利十四天持有期70号理财产品 | B7: Z7002625000217 | C7: 信银理财有限责任公司 | D7: 代销理财产品 | E7: 20260918 | F7: =VLOOKUP(A7,Sheet2!B:C,2,0) -> 1.0232 | G7: =VLOOKUP(A7,Sheet2!B:D,3,0) -> 1.0232 | H7: https://www.citic-wealth.com
A8: 信银理财安盈象固收稳健一个月持有期96号理财产品 | B8: Z7002625002789 | C8: 信银理财有限责任公司 | D8: 代销理财产品 | E8: 20260918 | F8: =VLOOKUP(A8,Sheet2!B:C,2,0) -> 1.0192 | G8: =VLOOKUP(A8,Sheet2!B:D,3,0) -> 1.0192 | H8: https://www.citic-wealth.com
A9: 信银理财安盈象固收稳健一个月持有期24号理财产品 | B9: Z7002624000548 | C9: 信银理财有限责任公司 | D9: 代销理财产品 | E9: 20260918 | F9: =VLOOKUP(A9,Sheet2!B:C,2,0) -> 1.0265 | G9: =VLOOKUP(A9,Sheet2!B:D,3,0) -> 1.0265 | H9: https://www.citic-wealth.com
A10: 信银理财安盈象固收稳利一个月持有期225号理财产品 | B10: Z7002625002151 | C10: 信银理财有限责任公司 | D10: 代销理财产品 | E10: 20260918 | F10: =VLOOKUP(A10,Sheet2!B:C,2,0) -> 1.0311 | G10: =VLOOKUP(A10,Sheet2!B:D,3,0) -> 1.0311 | H10: https://www.citic-wealth.com
A11: 信银理财安盈象固收稳利三个月持有期98号理财产品 | B11: Z7002625000348 | C11: 信银理财有限责任公司 | D11: 代销理财产品 | E11: 20260918 | F11: =VLOOKUP(A11,Sheet2!B:C,2,0) -> 1.0131 | G11: =VLOOKUP(A11,Sheet2!B:D,3,0) -> 1.0131 | H11: https://www.citic-wealth.com
A12: 信银理财安盈象固收稳利三个月持有期27号理财产品 | B12: Z7002624002029 | C12: 信银理财有限责任公司 | D12: 代销理财产品 | E12: 20260918 | F12: =VLOOKUP(A12,Sheet2!B:C,2,0) -> 1.0611 | G12: =VLOOKUP(A12,Sheet2!B:D,3,0) -> 1.0611 | H12: https://www.citic-wealth.com
A13: 信银理财安盈象固收稳健三个月持有期86号理财产品 | B13: Z7002625001185 | C13: 信银理财有限责任公司 | D13: 代销理财产品 | E13: 20260918 | F13: =VLOOKUP(A13,Sheet2!B:C,2,0) -> 1.0295 | G13: =VLOOKUP(A13,Sheet2!B:D,3,0) -> 1.0295 | H13: https://www.citic-wealth.com
A14: 南银理财鼎瑞悦稳（最低持有7天）2号-D份额 | B14: Z7003224000019 | C14: 南银理财有限责任公司 | D14: 代销理财产品 | E14: 20260918 | F14: =VLOOKUP(A14,Sheet2!B:C,2,0) -> 1.055772 | G14: =VLOOKUP(A14,Sheet2!B:D,3,0) -> 1.055772 | H14: https://www.nanyinwealth.com
A15: 南银理财悦稳最低持有7天9号-C份额 | B15: Z7003225000199 | C15: 南银理财有限责任公司 | D15: 代销理财产品 | E15: 20260918 | F15: =VLOOKUP(A15,Sheet2!B:C,2,0) -> 1.024719 | G15: =VLOOKUP(A15,Sheet2!B:D,3,0) -> 1.024719 | H15: https://www.nanyinwealth.com
... A43: 兴业银行天天万利宝稳利6号S款净值型理财产品 | B43: Z7002021000188 | C43: 兴银理财有限责任公司 | D43: 代销理财产品 | E43: 20260915 | F43: =VLOOKUP(A43,Sheet2!B:C,2,0) -> 1.12044 | G43: =VLOOKUP(A43,Sheet2!B:D,3,0) -> 1.12044 | H43: https://www.cibwm.com.cn
A45: 产品名称 | B45: 产品登记编码 | C45: 发行机构 | D45: 属性 | E45: 日期 | F45: 万份收益 | H45: 合作机构网址
A46: 苏银理财启源现金5号JS鑫福款 | B46: Z7003123000050 | C46: 苏银理财有限责任公司 | D46: 代销理财产品 | E46: 20260918 | F46: =VLOOKUP(A46,Sheet2!B:D,2,0) -> 0.3369 | H46: https://www.suyinwealth.com
A47: 苏银理财启源货币6号JS鑫福款 | B47: Z7003125000091 | C47: 苏银理财有限责任公司 | D47: 代销理财产品 | E47: 20260918 | F47: =VLOOKUP(A47,Sheet2!B:D,2,0) -> 0.4082 | H47: https://www.suyinwealth.com
A48: 苏银理财启源货币12号JS鑫福款 | B48: Z7003125000197 | C48: 苏银理财有限责任公司 | D48: 代销理财产品 | E48: 20260918 | F48: =VLOOKUP(A48,Sheet2!B:D,2,0) -> 0.4223 | H48: https://www.suyinwealth.com
A49: 苏银理财启源货币14号JS鑫福款 | B49: Z7003125000091 | C49: 苏银理财有限责任公司 | D49: 代销理财产品 | E49: 20260918 | F49: =VLOOKUP(A49,Sheet2!B:D,2,0) -> 0.4867 | H49: https://www.suyinwealth.com
A50: 苏银理财启源现金1号-F | B50: Z7003121000014 | C50: 苏银理财有限责任公司 | D50: 代销理财产品 | E50: 20260918 | F50: =VLOOKUP(A50,Sheet2!B:D,2,0) -> 0.2962 | H50: https://www.suyinwealth.com
A51: 兴银理财添利日日新16号净值型理财产品 | B51: Z7002025000027 | C51: 兴银理财有限责任公司 | D51: 代销理财产品 | E51: 20260918 | F51: =VLOOKUP(A51,Sheet2!B:D,2,0) -> 0.4668 | H51: https://www.cibwm.com.cn
A52: 兴银理财添利天天利66号现金管理类理财产品 | B52: Z7002025000645 | C52: 兴银理财有限责任公司 | D52: 代销理财产品 | E52: 20260918 | F52: =VLOOKUP(A52,Sheet2!B:D,2,0) -> 0.2687 | H52: https://www.cibwm.com.cn
A53: 兴银理财添利12号净值型理财产品 | B53: Z7002025000029 | C53: 兴银理财有限责任公司 | D53: 代销理财产品 | E53: 20260918 | F53: =VLOOKUP(A53,Sheet2!B:D,2,0) -> 0.2596 | H53: https://www.cibwm.com.cn
A54: 兴银理财添利10号净值型理财产品 | B54: Z7002021000107 | C54: 兴银理财有限责任公司 | D54: 代销理财产品 | E54: 20260918 | F54: =VLOOKUP(A54,Sheet2!B:D,2,0) -> 0.312 | H54: https://www.cibwm.com.cn
A55: 兴银理财添利天天利53号现金管理型理财产品 | B55: Z7002025000127 | C55: 兴银理财有限责任公司 | D55: 代销理财产品 | E55: 20260918 | F55: =VLOOKUP(A55,Sheet2!B:D,2,0) -> 0.2836 | H55: https://www.cibwm.com.cn
A56: 信银理财日盈象天天利38号现金管理型理财产品 | B56: Z7002623000128 | C56: 信银理财有限责任公司 | D56: 代销理财产品 | E56: 20260918 | F56: =VLOOKUP(A56,Sheet2!B:D,2,0) -> 0.4055 | H56: https://www.citic-wealth.com
A57: 信银理财日盈象天天利33号现金管理型理财产品 | B57: Z7002623000072 | C57: 信银理财有限责任公司 | D57: 代销理财产品 | E57: 20260918 | F57: =VLOOKUP(A57,Sheet2!B:D,2,0) -> 0.3348 | H57: https://www.citic-wealth.com
... A59: 信银理财日盈象天天利41号现金管理型理财产品 | B59: Z7002623000131 | C59: 信银理财有限责任公司 | D59: 代销理财产品 | E59: 20260918 | F59: =VLOOKUP(A59,Sheet2!B:D,2,0) -> 0.2966 | H59: https://www.citic-wealth.com
A61: 1.投资者可依据理财产品登记编码在中国理财网www.chinawealth.com.cn查询理财产品信息。 2.以上产品由苏银理财有限责任公司、南银理财有限责任公司、兴银理财有限责任公司与信银理财有限责任公司发行和管理，涟水农商行为代销行，代销行不承担产品投资，兑付和风险管理责任。 3.投资者可通过发行机构官网查询理财产品净值等信息,如有不符，以发行机构官网公告为准。 4.理财非存款，产品有风险，投资须谨慎。
G64: 涟水农商行
G65: 2026年9月21日

Sheet Sheet2
A1: 产品代码 | B1: 产品名称 | C1: 单位净值 | D1: 累计净值
A2: 9K20923B | B2: 兴业银行天天万利宝稳利6号S款净值型理财产品 | C2: 1.12044 | D2: 1.12044 | E2: 9.15
A3: 9K41069E | B3: 兴银理财稳添利周盈69号（7天最短持有期）日开固收类理财产品 | C3: 1.02142 | D3: 1.02142 | E3: 9.18
A4: 9K41075C | B4: 兴银理财稳添利周盈75号（7天最短持有期）日开固收类理财产品 | C4: 1.02219 | D4: 1.02219
A5: 9K43072C | B5: 兴银理财稳添利月盈72号（1个月最短持有期）日开固收类理财产品 | C5: 1.03046 | D5: 1.03046
A6: 9K92224B | B6: 兴银理财稳添利日盈124号日开固收类理财产品 | C6: 1.02491 | D6: 1.02491
A7: A32001 | B7: 南银理财悦稳最低持有91天-A份额 | C7: 1.1144 | D7: 1.1144
A8: A32005 | B8: 南银理财悦稳（最低持有280天） | C8: 1.1326 | D8: 1.1326
A9: A32016 | B9: 南银理财鼎瑞悦稳（最低持有14天）-C份额 | C9: 1.069601 | D9: 1.069601
A10: A32024 | B10: 南银理财鼎瑞悦稳（最低持有7天）2号-D份额 | C10: 1.055772 | D10: 1.055772
A11: A32034 | B11: 南银理财悦稳最低持有189天-B份额 | C11: 1.051891 | D11: 1.051891
A12: A32043 | B12: 南银理财悦稳最低持有371天1号-B份额 | C12: 1.055817 | D12: 1.055817
A13: A32044 | B13: 南银理财悦稳最低持有28天3号-B份额 | C13: 1.042882 | D13: 1.042882
A14: A32046 | B14: 南银理财悦稳最低持有60天1号-B份额 | C14: 1.043341 | D14: 1.043341
A15: A32063 | B15: 南银理财悦稳最低持有21天2号-C份额 | C15: 1.030497 | D15: 1.030497
... A48: Y30244 | B48: 南银理财鑫逸稳一年244期-A份额 | C48: 1.0203 | D48: 1.0203
A49: J28669 | B49: 苏银理财恒源封闭纯债379期6月D | C49: 1.000001 | D49: 1.000001 | E49: 9.16
A50: 9B31009C | B50: 兴银理财添利10号净值型理财产品 | C50: 0.312 | E50: 9.18
A51: 9B31316E | B51: 兴银理财添利日日新16号净值型理财产品 | C51: 0.4668
A52: 9B31412C | B52: 兴银理财添利12号净值型理财产品 | C52: 0.2596
A53: 9TTL953J | B53: 兴银理财添利天天利53号现金管理型理财产品 | C53: 0.2836
A54: 9TTL966C | B54: 兴银理财添利天天利66号现金管理类理财产品 | C54: 0.2687
A55: AM233034Q | B55: 信银理财日盈象天天利33号现金管理型理财产品 | C55: 0.3348
A56: AM233039S | B56: 信银理财日盈象天天利38号现金管理型理财产品 | C56: 0.4055
A57: AM233042P | B57: 信银理财日盈象天天利41号现金管理型理财产品 | C57: 0.2966
A58: AM254328M | B58: 信银理财日盈象天天利321号现金管理型理财产品 | C58: 0.3559
A59: J02008 | B59: 苏银理财启源现金1号-F | C59: 0.2962
A60: J03576 | B60: 苏银理财启源现金5号JS鑫福款 | C60: 0.3369
A61: J04479 | B61: 苏银理财启源货币6号JS鑫福款 | C61: 0.4082
A62: J11348 | B62: 苏银理财启源货币12号JS鑫福款 | C62: 0.4223
A63: J16048 | B63: 苏银理财启源货币14号JS鑫福款 | C63: 0.4867
